BEGIN:VCALENDAR
VERSION:2.0
PRODID:-//Le Vieux Brindas - ECPv6.15.15//NONSGML v1.0//EN
CALSCALE:GREGORIAN
METHOD:PUBLISH
X-ORIGINAL-URL:https://www.levieuxbrindas.fr
X-WR-CALDESC:Évènements pour Le Vieux Brindas
REFRESH-INTERVAL;VALUE=DURATION:PT1H
X-Robots-Tag:noindex
X-PUBLISHED-TTL:PT1H
BEGIN:VTIMEZONE
TZID:Europe/Paris
BEGIN:DAYLIGHT
TZOFFSETFROM:+0100
TZOFFSETTO:+0200
TZNAME:CEST
DTSTART:20220327T010000
END:DAYLIGHT
BEGIN:STANDARD
TZOFFSETFROM:+0200
TZOFFSETTO:+0100
TZNAME:CET
DTSTART:20221030T010000
END:STANDARD
BEGIN:DAYLIGHT
TZOFFSETFROM:+0100
TZOFFSETTO:+0200
TZNAME:CEST
DTSTART:20230326T010000
END:DAYLIGHT
BEGIN:STANDARD
TZOFFSETFROM:+0200
TZOFFSETTO:+0100
TZNAME:CET
DTSTART:20231029T010000
END:STANDARD
BEGIN:DAYLIGHT
TZOFFSETFROM:+0100
TZOFFSETTO:+0200
TZNAME:CEST
DTSTART:20240331T010000
END:DAYLIGHT
BEGIN:STANDARD
TZOFFSETFROM:+0200
TZOFFSETTO:+0100
TZNAME:CET
DTSTART:20241027T010000
END:STANDARD
END:VTIMEZONE
BEGIN:VEVENT
DTSTART;TZID=Europe/Paris:20231014T100000
DTEND;TZID=Europe/Paris:20231014T120000
DTSTAMP:20260425T130045
CREATED:20230905T170737Z
LAST-MODIFIED:20230905T170843Z
UID:5266-1697277600-1697284800@www.levieuxbrindas.fr
SUMMARY:Réunion Présentation Fête Années 1950
DESCRIPTION:Présentation de la Fête des Années 1950\, pour le 1er juin 2024. \nToutes les infos sur le projet ici.
URL:https://www.levieuxbrindas.fr/evenement/reunion-presentation-fete-annees-1950/
LOCATION:Carré d’Ass\, BRINDAS\, 69126\, France
CATEGORIES:Brindas 2024,Réunion
END:VEVENT
END:VCALENDAR