BEGIN:VCALENDAR
VERSION:2.0
PRODID:-//Le Vieux Brindas - ECPv6.15.15//NONSGML v1.0//EN
CALSCALE:GREGORIAN
METHOD:PUBLISH
X-ORIGINAL-URL:https://www.levieuxbrindas.fr
X-WR-CALDESC:Évènements pour Le Vieux Brindas
REFRESH-INTERVAL;VALUE=DURATION:PT1H
X-Robots-Tag:noindex
X-PUBLISHED-TTL:PT1H
BEGIN:VTIMEZONE
TZID:Europe/Paris
BEGIN:DAYLIGHT
TZOFFSETFROM:+0100
TZOFFSETTO:+0200
TZNAME:CEST
DTSTART:20220327T010000
END:DAYLIGHT
BEGIN:STANDARD
TZOFFSETFROM:+0200
TZOFFSETTO:+0100
TZNAME:CET
DTSTART:20221030T010000
END:STANDARD
BEGIN:DAYLIGHT
TZOFFSETFROM:+0100
TZOFFSETTO:+0200
TZNAME:CEST
DTSTART:20230326T010000
END:DAYLIGHT
BEGIN:STANDARD
TZOFFSETFROM:+0200
TZOFFSETTO:+0100
TZNAME:CET
DTSTART:20231029T010000
END:STANDARD
BEGIN:DAYLIGHT
TZOFFSETFROM:+0100
TZOFFSETTO:+0200
TZNAME:CEST
DTSTART:20240331T010000
END:DAYLIGHT
BEGIN:STANDARD
TZOFFSETFROM:+0200
TZOFFSETTO:+0100
TZNAME:CET
DTSTART:20241027T010000
END:STANDARD
END:VTIMEZONE
BEGIN:VEVENT
DTSTART;TZID=Europe/Paris:20230608T203000
DTEND;TZID=Europe/Paris:20230608T220000
DTSTAMP:20260425T185812
CREATED:20230504T112919Z
LAST-MODIFIED:20230504T112919Z
UID:4639-1686256200-1686261600@www.levieuxbrindas.fr
SUMMARY:Réunion Fête Villageoise 2024
DESCRIPTION:Bonjour à tous\,\nComme vous le savez surement Le Vieux Brindas\, à l’instar de la journée de 2019 « les années folles »\, organise une grande fête villageoise le 1er juin 2024.\nÀ l’issue de la réunion trimestrielle des associations du 23 février\, un avant projet a été proposé et diffusé. Un certain nombre d’associations ont déjà manifesté leur adhésion à ce projet.\nAfin de pouvoir présenter plus concrètement le déroulement de cet événement\, une réunion d’information est organisée le jeudi 8 juin à 20h30\, petite salle des fêtes de Brindas\nVous êtes chaleureusement invités à cette réunion au cours de laquelle vous pourrez nous faire part de vos idées.\nNous comptons sur votre présence.\nAmicalement\nLe Vieux Brindas
URL:https://www.levieuxbrindas.fr/evenement/reunion-fete-villageoise-2024/
LOCATION:Petite Salle des Fêtes\, BRINDAS\, 69126\, France
CATEGORIES:Brindas 2024,Réunion
END:VEVENT
END:VCALENDAR