BEGIN:VCALENDAR
VERSION:2.0
PRODID:-//Le Vieux Brindas - ECPv6.15.15//NONSGML v1.0//EN
CALSCALE:GREGORIAN
METHOD:PUBLISH
X-WR-CALNAME:Le Vieux Brindas
X-ORIGINAL-URL:https://www.levieuxbrindas.fr
X-WR-CALDESC:Évènements pour Le Vieux Brindas
REFRESH-INTERVAL;VALUE=DURATION:PT1H
X-Robots-Tag:noindex
X-PUBLISHED-TTL:PT1H
BEGIN:VTIMEZONE
TZID:Europe/Paris
BEGIN:DAYLIGHT
TZOFFSETFROM:+0100
TZOFFSETTO:+0200
TZNAME:CEST
DTSTART:20230326T010000
END:DAYLIGHT
BEGIN:STANDARD
TZOFFSETFROM:+0200
TZOFFSETTO:+0100
TZNAME:CET
DTSTART:20231029T010000
END:STANDARD
BEGIN:DAYLIGHT
TZOFFSETFROM:+0100
TZOFFSETTO:+0200
TZNAME:CEST
DTSTART:20240331T010000
END:DAYLIGHT
BEGIN:STANDARD
TZOFFSETFROM:+0200
TZOFFSETTO:+0100
TZNAME:CET
DTSTART:20241027T010000
END:STANDARD
BEGIN:DAYLIGHT
TZOFFSETFROM:+0100
TZOFFSETTO:+0200
TZNAME:CEST
DTSTART:20250330T010000
END:DAYLIGHT
BEGIN:STANDARD
TZOFFSETFROM:+0200
TZOFFSETTO:+0100
TZNAME:CET
DTSTART:20251026T010000
END:STANDARD
END:VTIMEZONE
BEGIN:VEVENT
DTSTART;TZID=Europe/Paris:20240514T200000
DTEND;TZID=Europe/Paris:20240514T210000
DTSTAMP:20260425T031040
CREATED:20240430T121548Z
LAST-MODIFIED:20240430T122700Z
UID:6870-1715716800-1715720400@www.levieuxbrindas.fr
SUMMARY:Réunion de préparation de la fête villageoise Années 50
DESCRIPTION:Chers amis\, \nVous êtes cordialement invités à la réunion de préparation de la Grande fête villageoise « Les années 50 à Brindas » qui se tiendra : \nmardi 14 mai 2024\, 20h à la salle du Carré d’Ass \nProgramme\n\nRappel du contexte général de la fête\nÉtat d’avancement de l’organisation\nPrévisions d’affectations des espaces pour les projets\nÉchanges sur la mise en œuvre de ces projets.\n\nDans l’attente de vous rencontrer\, cordialement\, \nL’équipe du Vieux Brindas \nVeuillez trouver en pièce jointe l’annonce de cette fête. \nMerci de transmettre cette invitation à toute personne susceptible d’être intéressée.
URL:https://www.levieuxbrindas.fr/evenement/reunion-preparation-fete-villageoise-annees-50/
LOCATION:Carré d’Ass\, BRINDAS\, 69126\, France
CATEGORIES:Brindas 2024
END:VEVENT
BEGIN:VEVENT
DTSTART;TZID=Europe/Paris:20240531T090000
DTEND;TZID=Europe/Paris:20240531T120000
DTSTAMP:20260425T031040
CREATED:20240516T162225Z
LAST-MODIFIED:20240516T163531Z
UID:7023-1717146000-1717156800@www.levieuxbrindas.fr
SUMMARY:Montage Fond de Scène
DESCRIPTION:Rendez-vous devant la salle des fêtes pour aider au montage du fond de scène.
URL:https://www.levieuxbrindas.fr/evenement/montage-fond-de-scene/
LOCATION:Parvis Salle des Fêtes\, 36\, montée de la Bernade\, BRINDAS\, FRANCE\, 69126
CATEGORIES:Brindas 2024
ATTACH;FMTTYPE=image/jpeg:https://www.levieuxbrindas.fr/wordpress/wp-content/uploads/2019/06/DSC_0237.jpg
END:VEVENT
END:VCALENDAR