BEGIN:VCALENDAR
VERSION:2.0
PRODID:-//Le Vieux Brindas - ECPv6.15.15//NONSGML v1.0//EN
CALSCALE:GREGORIAN
METHOD:PUBLISH
X-ORIGINAL-URL:https://www.levieuxbrindas.fr
X-WR-CALDESC:Évènements pour Le Vieux Brindas
REFRESH-INTERVAL;VALUE=DURATION:PT1H
X-Robots-Tag:noindex
X-PUBLISHED-TTL:PT1H
BEGIN:VTIMEZONE
TZID:Europe/Paris
BEGIN:DAYLIGHT
TZOFFSETFROM:+0100
TZOFFSETTO:+0200
TZNAME:CEST
DTSTART:20130331T010000
END:DAYLIGHT
BEGIN:STANDARD
TZOFFSETFROM:+0200
TZOFFSETTO:+0100
TZNAME:CET
DTSTART:20131027T010000
END:STANDARD
BEGIN:DAYLIGHT
TZOFFSETFROM:+0100
TZOFFSETTO:+0200
TZNAME:CEST
DTSTART:20140330T010000
END:DAYLIGHT
BEGIN:STANDARD
TZOFFSETFROM:+0200
TZOFFSETTO:+0100
TZNAME:CET
DTSTART:20141026T010000
END:STANDARD
BEGIN:DAYLIGHT
TZOFFSETFROM:+0100
TZOFFSETTO:+0200
TZNAME:CEST
DTSTART:20150329T010000
END:DAYLIGHT
BEGIN:STANDARD
TZOFFSETFROM:+0200
TZOFFSETTO:+0100
TZNAME:CET
DTSTART:20151025T010000
END:STANDARD
END:VTIMEZONE
BEGIN:VEVENT
DTSTART;TZID=Europe/Paris:20140831T090000
DTEND;TZID=Europe/Paris:20140831T170059
DTSTAMP:20260422T133526
CREATED:20140125T215533Z
LAST-MODIFIED:20140125T215533Z
UID:939-1409475600-1409504459@www.levieuxbrindas.fr
SUMMARY:Fête de la Batteuse
DESCRIPTION:
URL:https://www.levieuxbrindas.fr/evenement/fete-de-la-batteuse/
CATEGORIES:Agriculture
END:VEVENT
END:VCALENDAR