BEGIN:VCALENDAR
VERSION:2.0
PRODID:-//Le Vieux Brindas - ECPv6.15.15//NONSGML v1.0//EN
CALSCALE:GREGORIAN
METHOD:PUBLISH
X-ORIGINAL-URL:http://www.levieuxbrindas.fr
X-WR-CALDESC:Évènements pour Le Vieux Brindas
REFRESH-INTERVAL;VALUE=DURATION:PT1H
X-Robots-Tag:noindex
X-PUBLISHED-TTL:PT1H
BEGIN:VTIMEZONE
TZID:Europe/Paris
BEGIN:DAYLIGHT
TZOFFSETFROM:+0100
TZOFFSETTO:+0200
TZNAME:CEST
DTSTART:20240331T010000
END:DAYLIGHT
BEGIN:STANDARD
TZOFFSETFROM:+0200
TZOFFSETTO:+0100
TZNAME:CET
DTSTART:20241027T010000
END:STANDARD
BEGIN:DAYLIGHT
TZOFFSETFROM:+0100
TZOFFSETTO:+0200
TZNAME:CEST
DTSTART:20250330T010000
END:DAYLIGHT
BEGIN:STANDARD
TZOFFSETFROM:+0200
TZOFFSETTO:+0100
TZNAME:CET
DTSTART:20251026T010000
END:STANDARD
BEGIN:DAYLIGHT
TZOFFSETFROM:+0100
TZOFFSETTO:+0200
TZNAME:CEST
DTSTART:20260329T010000
END:DAYLIGHT
BEGIN:STANDARD
TZOFFSETFROM:+0200
TZOFFSETTO:+0100
TZNAME:CET
DTSTART:20261025T010000
END:STANDARD
END:VTIMEZONE
BEGIN:VEVENT
DTSTART;TZID=Europe/Paris:20251011T103000
DTEND;TZID=Europe/Paris:20251011T120000
DTSTAMP:20260419T213816
CREATED:20250927T135550Z
LAST-MODIFIED:20250927T135649Z
UID:10152-1760178600-1760184000@www.levieuxbrindas.fr
SUMMARY:"Epris de Liberté" : Spectacle
DESCRIPTION:Spectacle-hommage dans le cadre des 80 ans de la Libération de 1945. \nLes musiciens de l’association « Celtic Wind » présenteront le spectacle « Epris de Liberté » à la médiathèque de Brindas le samedi 11 octobre à 10h30\, en collaboration avec le groupe historique du Vieux Brindas. \nSuivra un verre de l’amitié et un moment d’échanges citoyen.
URL:http://www.levieuxbrindas.fr/evenement/epris-de-liberte-spectacle/
LOCATION:Médiathèque de Brindas\, 10 montée du Clos\, BRINDAS\, 69126\, France
CATEGORIES:Commémoration,Concert,Spectacle
END:VEVENT
END:VCALENDAR